BEGIN:VCALENDAR
VERSION:2.0
PRODID://MusicLiveCOLCHESTER//musiclivecolchester.com//EN
BEGIN:VEVENT
SUMMARY:Shed + Ghost Week + Jake Cheek + Dean Frost
DTSTART:20250831T200000
DTSTAMP:20260424T232355Z
UID:shed-ghost-week-jake-cheek-dean-frost
DESCRIPTION:Colchester-based indie rock band empowering imperfection
GEO:51.8896;0.9029
LOCATION:CODA
URL:https://musiclivecolchester.com/gigs/shed-ghost-week-jake-cheek-dean-f
 rost
END:VEVENT
END:VCALENDAR
