BEGIN:VCALENDAR
VERSION:2.0
PRODID://MusicLiveCOLCHESTER//musiclivecolchester.com//EN
BEGIN:VEVENT
SUMMARY:Scooby
DTSTART:20251129T210000
DTSTAMP:20260424T214421Z
UID:scooby
DESCRIPTION:Chart-topping hits and timeless classics
GEO:51.8896;0.9029
LOCATION:CODA
URL:https://musiclivecolchester.com/gigs/scooby
END:VEVENT
END:VCALENDAR
