BEGIN:VCALENDAR
VERSION:2.0
PRODID://MusicLiveCOLCHESTER//musiclivecolchester.com//EN
BEGIN:VEVENT
SUMMARY:Sarah Holburn
DTSTART:20240825T173000
DTSTAMP:20260424T201034Z
UID:sarah-holburn
DESCRIPTION:Songwriter/musician
GEO:51.8948178;0.8931099
LOCATION:The Victoria Inn
URL:https://musiclivecolchester.com/gigs/sarah-holburn
END:VEVENT
END:VCALENDAR
