BEGIN:VCALENDAR
VERSION:2.0
PRODID://MusicLiveCOLCHESTER//musiclivecolchester.com//EN
BEGIN:VEVENT
SUMMARY:Samantics – One Guy/Two Sides
DTSTART:20260313T193000
DTEND:20260313T234500
DTSTAMP:20260424T200612Z
UID:samantics-one-guy-two-sides
DESCRIPTION:Next gen one man band - all about the words
GEO:51.889453;0.902372
LOCATION:Three Wise Monkeys
URL:https://musiclivecolchester.com/gigs/samantics-one-guy-two-sides
END:VEVENT
END:VCALENDAR
