BEGIN:VCALENDAR
VERSION:2.0
PRODID://MusicLiveCOLCHESTER//musiclivecolchester.com//EN
BEGIN:VEVENT
SUMMARY:Roving Crows + Charlotte Carpenter
DTSTART:20250725T200000
DTEND:20250725T223000
DTSTAMP:20260424T175229Z
UID:roving-crows-charlotte-carpenter
DESCRIPTION:Multi-award winning Irish folk rock
GEO:51.8098492;1.0199545
LOCATION:Brightlingsea Community Centre
URL:https://musiclivecolchester.com/gigs/roving-crows-charlotte-carpenter
END:VEVENT
END:VCALENDAR
