BEGIN:VCALENDAR
VERSION:2.0
PRODID://MusicLiveCOLCHESTER//musiclivecolchester.com//EN
BEGIN:VEVENT
SUMMARY:Roman River Festival: Jordan Ashman
DTSTART:20250925T200000
DTSTAMP:20260424T235249Z
UID:roman-river-festival-at-colchester-arts-centre-jor
DESCRIPTION:Snare drum\, marimba\, vibraphone\, multi percussion
GEO:51.888742;0.8943686
LOCATION:Colchester Arts Centre
URL:https://musiclivecolchester.com/gigs/roman-river-festival-at-colcheste
 r-arts-centre-jor
END:VEVENT
END:VCALENDAR
