BEGIN:VCALENDAR
VERSION:2.0
PRODID://MusicLiveCOLCHESTER//musiclivecolchester.com//EN
BEGIN:VEVENT
SUMMARY:Rock the Brewhouse: Seattle Wave
DTSTART:20241130T204500
DTSTAMP:20260424T201041Z
UID:rock-the-brewhouse-seattle-wave
DESCRIPTION:Classics for a new generation
GEO:51.889483;0.904393
LOCATION:Queen Street Brewhouse
URL:https://musiclivecolchester.com/gigs/rock-the-brewhouse-seattle-wave
END:VEVENT
END:VCALENDAR
