BEGIN:VCALENDAR
VERSION:2.0
PRODID://MusicLiveCOLCHESTER//musiclivecolchester.com//EN
BEGIN:VEVENT
SUMMARY:Robert Brown
DTSTART:20250629T173000
DTSTAMP:20260424T160841Z
UID:robert-brown-the-victoria-june-2025
DESCRIPTION:Of the Smouldering Sons
GEO:51.8948178;0.8931099
LOCATION:The Victoria Inn
URL:https://musiclivecolchester.com/gigs/robert-brown-the-victoria-june-20
 25
END:VEVENT
END:VCALENDAR
