BEGIN:VCALENDAR
VERSION:2.0
PRODID://MusicLiveCOLCHESTER//musiclivecolchester.com//EN
BEGIN:VEVENT
SUMMARY:Rhiannon Paige + Drew Young
DTSTART:20260522T193000
DTEND:20260522T223000
DTSTAMP:20260420T054612Z
UID:rhiannon-paige-drew-young
DESCRIPTION:Country-pop-rock powerhouse making serious waves in the UK cou
 ntry scene
GEO:51.8108156;1.0260165
LOCATION:St James’ Church\, Brightlingsea
URL:https://musiclivecolchester.com/gigs/rhiannon-paige-drew-young
END:VEVENT
END:VCALENDAR
