BEGIN:VCALENDAR
VERSION:2.0
PRODID://MusicLiveCOLCHESTER//musiclivecolchester.com//EN
BEGIN:VEVENT
SUMMARY:Rhiannon Arnold @ Colchester LEAF
DTSTART:20240914T130000
DTSTAMP:20260425T012533Z
UID:rhiannon-arnold-colchester-leaf-14924
DESCRIPTION:Singer and songwriter
GEO:51.888722;0.9030052
LOCATION:Colchester LEAF
URL:https://musiclivecolchester.com/gigs/rhiannon-arnold-colchester-leaf-1
 4924
END:VEVENT
END:VCALENDAR
