BEGIN:VCALENDAR
VERSION:2.0
PRODID://MusicLiveCOLCHESTER//musiclivecolchester.com//EN
BEGIN:VEVENT
SUMMARY:Rewired - Live @ The Bull
DTSTART:20250118T210000
DTSTAMP:20260424T184152Z
UID:rewired-live-the-bull-jan-25
DESCRIPTION:Rock/pop band
GEO:51.8876699;0.8930575
LOCATION:The Bull
URL:https://musiclivecolchester.com/gigs/rewired-live-the-bull-jan-25
END:VEVENT
END:VCALENDAR
