BEGIN:VCALENDAR
VERSION:2.0
PRODID://MusicLiveCOLCHESTER//musiclivecolchester.com//EN
BEGIN:VEVENT
SUMMARY:Retro 'Hits' from the Ancient Guitar Family
DTSTART:20250712T140000
DTSTAMP:20260424T214039Z
UID:retro-hits-from-the-ancient-guitar-family
DESCRIPTION:Frederick Lau breathes new life into the music of lutes\, theo
 rbos and vihuelas
GEO:51.8844745;0.9232328
LOCATION:St Leonard-at-the-Hythe
URL:https://musiclivecolchester.com/gigs/retro-hits-from-the-ancient-guita
 r-family
END:VEVENT
END:VCALENDAR
