BEGIN:VCALENDAR
VERSION:2.0
PRODID://MusicLiveCOLCHESTER//musiclivecolchester.com//EN
BEGIN:VEVENT
SUMMARY:Remembrance Sunday: KEVAL
DTSTART:20241110T210000
DTSTAMP:20260424T232045Z
UID:remembrance-sunday-keval
DESCRIPTION:
GEO:51.8876699;0.8930575
LOCATION:The Bull
URL:https://musiclivecolchester.com/gigs/remembrance-sunday-keval
END:VEVENT
END:VCALENDAR
