BEGIN:VCALENDAR
VERSION:2.0
PRODID://MusicLiveCOLCHESTER//musiclivecolchester.com//EN
BEGIN:VEVENT
SUMMARY:Rebecca Leek + Cameron Mackie
DTSTART:20260502T193000
DTEND:20260502T213000
DTSTAMP:20260421T191203Z
UID:rebecca-leek-cameron-mackie
DESCRIPTION:Writer\, teacher\, musician\, speaker and presenter
GEO:51.7976034;1.066717
LOCATION:Thames Sailing Barge May
URL:https://musiclivecolchester.com/gigs/rebecca-leek-cameron-mackie
END:VEVENT
END:VCALENDAR
