BEGIN:VCALENDAR
VERSION:2.0
PRODID://MusicLiveCOLCHESTER//musiclivecolchester.com//EN
BEGIN:VEVENT
SUMMARY:Real Magic Queen
DTSTART:20251011T200000
DTEND:20251011T220000
DTSTAMP:20260424T195238Z
UID:real-magic-queen
DESCRIPTION:CANCELLED
GEO:51.888742;0.8943686
LOCATION:Colchester Arts Centre
URL:https://musiclivecolchester.com/gigs/real-magic-queen
END:VEVENT
END:VCALENDAR
