BEGIN:VCALENDAR
VERSION:2.0
PRODID://MusicLiveCOLCHESTER//musiclivecolchester.com//EN
BEGIN:VEVENT
SUMMARY:Rage Again The Machine (RATM Tribute)
DTSTART:20250719T193000
DTEND:20250719T234500
DTSTAMP:20260424T200928Z
UID:rage-again-the-machine-ratm-tribute
DESCRIPTION:RATM tribute band
GEO:51.889453;0.902372
LOCATION:Three Wise Monkeys
URL:https://musiclivecolchester.com/gigs/rage-again-the-machine-ratm-tribu
 te
END:VEVENT
END:VCALENDAR
