BEGIN:VCALENDAR
VERSION:2.0
PRODID://MusicLiveCOLCHESTER//musiclivecolchester.com//EN
BEGIN:VEVENT
SUMMARY:Punks Dead - 4 Band Punk Night
DTSTART:20260404T200000
DTSTAMP:20260424T155103Z
UID:punks-dead-4-band-punk-night
DESCRIPTION:Nihilistic Biscuits + Chicanes + Bliss + Inner Dog
GEO:51.889483;0.904393
LOCATION:Queen Street Brewhouse
URL:https://musiclivecolchester.com/gigs/punks-dead-4-band-punk-night
END:VEVENT
END:VCALENDAR
