BEGIN:VCALENDAR
VERSION:2.0
PRODID://MusicLiveCOLCHESTER//musiclivecolchester.com//EN
BEGIN:VEVENT
SUMMARY:Phoenix Lake + Support TBC
DTSTART:20260503T193000
DTEND:20260503T234500
DTSTAMP:20260425T142247Z
UID:phoenix-lake-three-wise-monkeys-colchester
DESCRIPTION:Hard hitting\, melodic\, four-piece metal from Nottingham\, UK
GEO:51.889453;0.902372
LOCATION:Three Wise Monkeys
URL:https://musiclivecolchester.com/gigs/phoenix-lake-three-wise-monkeys-c
 olchester
END:VEVENT
END:VCALENDAR
