BEGIN:VCALENDAR
VERSION:2.0
PRODID://MusicLiveCOLCHESTER//musiclivecolchester.com//EN
BEGIN:VEVENT
SUMMARY:Oompah Dee Doo Band + Balkan Hill
DTSTART:20240928T190000
DTSTAMP:20260424T163222Z
UID:oompah-dee-doo-band-balkan-hill
DESCRIPTION:Oktoberfest celebrations
GEO:51.889483;0.904393
LOCATION:Queen Street Brewhouse
URL:https://musiclivecolchester.com/gigs/oompah-dee-doo-band-balkan-hill
END:VEVENT
END:VCALENDAR
