BEGIN:VCALENDAR
VERSION:2.0
PRODID://MusicLiveCOLCHESTER//musiclivecolchester.com//EN
BEGIN:VEVENT
SUMMARY:OMB Acoustic Showcase - September 2024
DTSTART:20240908T130000
DTSTAMP:20260424T160744Z
UID:omb-acoustic-showcase-september-2024
DESCRIPTION:Carl AJ Ellis + Curly + Frank Anthony
GEO:51.8892863;0.9021444
LOCATION:Other Monkey Brewing Taproom
URL:https://musiclivecolchester.com/gigs/omb-acoustic-showcase-september-2
 024
END:VEVENT
END:VCALENDAR
