BEGIN:VCALENDAR
VERSION:2.0
PRODID://MusicLiveCOLCHESTER//musiclivecolchester.com//EN
BEGIN:VEVENT
SUMMARY:Oi Oi Saveloy DIY Presents: Punk Night
DTSTART:20240712T200000
DTSTAMP:20260424T160921Z
UID:oi-oi-saveloy-diy-presents-punk-night
DESCRIPTION:The Domestics + Grail Guard + Fantazmaz + James Domestic
GEO:51.8896;0.9029
LOCATION:CODA
URL:https://musiclivecolchester.com/gigs/oi-oi-saveloy-diy-presents-punk-n
 ight
END:VEVENT
END:VCALENDAR
