BEGIN:VCALENDAR
VERSION:2.0
PRODID://MusicLiveCOLCHESTER//musiclivecolchester.com//EN
BEGIN:VEVENT
SUMMARY:Ocean Colour Scene + Embrace + Cast + The View
DTSTART:20240714T140000
DTSTAMP:20260424T182844Z
UID:ocean-colour-scene-embrace-cast-the-view
DESCRIPTION:Summer Sundays music festival is coming to Lower Castle Park\,
  featuring Ocean Colour Scene\, Embrace\, Cast and The View
GEO:51.890604;0.903593
LOCATION:Colchester Castle Park
URL:https://musiclivecolchester.com/gigs/ocean-colour-scene-embrace-cast-t
 he-view
END:VEVENT
END:VCALENDAR
