BEGIN:VCALENDAR
VERSION:2.0
PRODID://MusicLiveCOLCHESTER//musiclivecolchester.com//EN
BEGIN:VEVENT
SUMMARY:Oasis Only + Matt Selley
DTSTART:20240906T200000
DTSTAMP:20260422T130427Z
UID:oasis-only-matt-selley
DESCRIPTION:Tribute act
GEO:51.8896;0.9029
LOCATION:CODA
URL:https://musiclivecolchester.com/gigs/oasis-only-matt-selley
END:VEVENT
END:VCALENDAR
