BEGIN:VCALENDAR
VERSION:2.0
PRODID://MusicLiveCOLCHESTER//musiclivecolchester.com//EN
BEGIN:VEVENT
SUMMARY:Neon Nova Knights - Live @ The Bull
DTSTART:20260411T210000
DTSTAMP:20260424T174219Z
UID:neon-nova-knights-live-the-bull
DESCRIPTION:Britpop\, indie and alternative
GEO:51.8876699;0.8930575
LOCATION:The Bull
URL:https://musiclivecolchester.com/gigs/neon-nova-knights-live-the-bull
END:VEVENT
END:VCALENDAR
