BEGIN:VCALENDAR
VERSION:2.0
PRODID://MusicLiveCOLCHESTER//musiclivecolchester.com//EN
BEGIN:VEVENT
SUMMARY:Neil Diamond: Sweet Caroline
DTSTART:20241019T193000
DTSTAMP:20260424T215110Z
UID:neil-diamond-sweet-caroline
DESCRIPTION:Direct from the West End – the Ultimate tribute to Neil Diam
 ond
GEO:51.896616;0.9033541
LOCATION:Charter Hall
URL:https://musiclivecolchester.com/gigs/neil-diamond-sweet-caroline
END:VEVENT
END:VCALENDAR
