BEGIN:VCALENDAR
VERSION:2.0
PRODID://MusicLiveCOLCHESTER//musiclivecolchester.com//EN
BEGIN:VEVENT
SUMMARY:Native James + Skeleton Boy + Dead Channels
DTSTART:20260130T193000
DTEND:20260130T234500
DTSTAMP:20260422T154855Z
UID:native-james-skeleton-boy-dead-channels
DESCRIPTION:Native James with Skeleton Boy and Dead Channels at IVW 2026
GEO:51.889453;0.902372
LOCATION:Three Wise Monkeys
URL:https://musiclivecolchester.com/gigs/native-james-skeleton-boy-dead-ch
 annels
END:VEVENT
END:VCALENDAR
