BEGIN:VCALENDAR
VERSION:2.0
PRODID://MusicLiveCOLCHESTER//musiclivecolchester.com//EN
BEGIN:VEVENT
SUMMARY:Myspace or Yours?
DTSTART:20251128T210000
DTSTAMP:20260424T142709Z
UID:myspace-or-yours-coda-november-2025
DESCRIPTION:Pop-punk and emo tribute/covers band
GEO:51.8896;0.9029
LOCATION:CODA
URL:https://musiclivecolchester.com/gigs/myspace-or-yours-coda-november-20
 25
END:VEVENT
END:VCALENDAR
