BEGIN:VCALENDAR
VERSION:2.0
PRODID://MusicLiveCOLCHESTER//musiclivecolchester.com//EN
BEGIN:VEVENT
SUMMARY:Myspace or Yours?
DTSTART:20250829T210000
DTSTAMP:20260424T142541Z
UID:myspace-or-yours-coda-august-2025
DESCRIPTION:Pop-punk and emo tribute/covers band
GEO:51.8896;0.9029
LOCATION:CODA
URL:https://musiclivecolchester.com/gigs/myspace-or-yours-coda-august-2025
END:VEVENT
END:VCALENDAR
