BEGIN:VCALENDAR
VERSION:2.0
PRODID://MusicLiveCOLCHESTER//musiclivecolchester.com//EN
BEGIN:VEVENT
SUMMARY:Musik in the Park 2025 - Day 1 - Over 18s
DTSTART:20250503T120000
DTSTAMP:20260424T232746Z
UID:musik-in-the-park-2025-day-1-over-18s
DESCRIPTION:Basically just a bunch of DJs
GEO:51.8807424;0.9147792
LOCATION:Old Heath Recreation Ground
URL:https://musiclivecolchester.com/gigs/musik-in-the-park-2025-day-1-over
 -18s
END:VEVENT
END:VCALENDAR
