BEGIN:VCALENDAR
VERSION:2.0
PRODID://MusicLiveCOLCHESTER//musiclivecolchester.com//EN
BEGIN:VEVENT
SUMMARY:Monday Night Group Sing - 11/05/2026
DTSTART:20260511T193000
DTEND:20260511T213000
DTSTAMP:20260420T095517Z
UID:monday-night-group-sing-20260511
DESCRIPTION:Upstairs at Three Wise Monkeys\, Colchester every Monday
GEO:51.889453;0.902372
LOCATION:Three Wise Monkeys
URL:https://musiclivecolchester.com/gigs/monday-night-group-sing-20260511
END:VEVENT
END:VCALENDAR
