BEGIN:VCALENDAR
VERSION:2.0
PRODID://MusicLiveCOLCHESTER//musiclivecolchester.com//EN
BEGIN:VEVENT
SUMMARY:Miles of Music: Christmas Time - Saturday
DTSTART:20241221T150000
DTSTAMP:20260424T163314Z
UID:miles-of-music-christmas-time-saturday
DESCRIPTION:The perfect way to celebrate the season
GEO:51.8870847;0.8943278
LOCATION:Headgate Theatre
URL:https://musiclivecolchester.com/gigs/miles-of-music-christmas-time-sat
 urday
END:VEVENT
END:VCALENDAR
