BEGIN:VCALENDAR
VERSION:2.0
PRODID://MusicLiveCOLCHESTER//musiclivecolchester.com//EN
BEGIN:VEVENT
SUMMARY:Meteora - The Linkin Park Tribute Show + Limpbiscuit
DTSTART:20250919T190000
DTSTAMP:20260424T181715Z
UID:meteora-the-linkin-park-tribute-show-limpbiscuit
DESCRIPTION:Linkin Park tribute
GEO:51.8896;0.9029
LOCATION:CODA
URL:https://musiclivecolchester.com/gigs/meteora-the-linkin-park-tribute-s
 how-limpbiscuit
END:VEVENT
END:VCALENDAR
