BEGIN:VCALENDAR
VERSION:2.0
PRODID://MusicLiveCOLCHESTER//musiclivecolchester.com//EN
BEGIN:VEVENT
SUMMARY:Megson
DTSTART:20250926T194500
DTSTAMP:20260424T160536Z
UID:megson
DESCRIPTION:A truly unique brand of folk music
GEO:51.8870847;0.8943278
LOCATION:Headgate Theatre
URL:https://musiclivecolchester.com/gigs/megson
END:VEVENT
END:VCALENDAR
