BEGIN:VCALENDAR
VERSION:2.0
PRODID://MusicLiveCOLCHESTER//musiclivecolchester.com//EN
BEGIN:VEVENT
SUMMARY:Matt Selley
DTSTART:20260426T160000
DTSTAMP:20260425T103158Z
UID:matt-selley-black-buoy-april-2026
DESCRIPTION:Singer/songwriter based in Wivenhoe\, Essex
GEO:51.8545714;0.959958
LOCATION:The Black Buoy\, Wivenhoe
URL:https://musiclivecolchester.com/gigs/matt-selley-black-buoy-april-2026
END:VEVENT
END:VCALENDAR
