BEGIN:VCALENDAR
VERSION:2.0
PRODID://MusicLiveCOLCHESTER//musiclivecolchester.com//EN
BEGIN:VEVENT
SUMMARY:MAGIC SEAS + Groovy Psycho + El Tel
DTSTART:20251017T200000
DTSTAMP:20260424T163309Z
UID:magic-seas-groovy-psycho-el-tel-rescheduled
DESCRIPTION:Rescheduled from May
GEO:51.889483;0.904393
LOCATION:Queen Street Brewhouse
URL:https://musiclivecolchester.com/gigs/magic-seas-groovy-psycho-el-tel-r
 escheduled
END:VEVENT
END:VCALENDAR
