BEGIN:VCALENDAR
VERSION:2.0
PRODID://MusicLiveCOLCHESTER//musiclivecolchester.com//EN
BEGIN:VEVENT
SUMMARY:Ma Polaine + April Moon
DTSTART:20260619T193000
DTEND:20260619T223000
DTSTAMP:20260420T054252Z
UID:ma-polaine-april-moon
DESCRIPTION:Canadiana/alt-country duo in a campervan\, UK
GEO:51.8098492;1.0199545
LOCATION:Brightlingsea Community Centre
URL:https://musiclivecolchester.com/gigs/ma-polaine-april-moon
END:VEVENT
END:VCALENDAR
