BEGIN:VCALENDAR
VERSION:2.0
PRODID://MusicLiveCOLCHESTER//musiclivecolchester.com//EN
BEGIN:VEVENT
SUMMARY:Luther Live & Velvet Voices
DTSTART:20261009T193000
DTSTAMP:20260424T155103Z
UID:luther-live-velvet-voices
DESCRIPTION:An unforgettable night of smooth tunes\, sweet harmonies\, and
  soul-stirring performances
GEO:51.896616;0.9033541
LOCATION:Charter Hall
URL:https://musiclivecolchester.com/gigs/luther-live-velvet-voices
END:VEVENT
END:VCALENDAR
