BEGIN:VCALENDAR
VERSION:2.0
PRODID://MusicLiveCOLCHESTER//musiclivecolchester.com//EN
BEGIN:VEVENT
SUMMARY:Luke Combs UK
DTSTART:20261015T193000
DTSTAMP:20260424T154617Z
UID:luke-combs-uk
DESCRIPTION:The world’s leading tribute to country megastar Luke Combs
GEO:51.896616;0.9033541
LOCATION:Charter Hall
URL:https://musiclivecolchester.com/gigs/luke-combs-uk
END:VEVENT
END:VCALENDAR
