BEGIN:VCALENDAR
VERSION:2.0
PRODID://MusicLiveCOLCHESTER//musiclivecolchester.com//EN
BEGIN:VEVENT
SUMMARY:Lord Toffingham - Live @ The Bull
DTSTART:20250613T203000
DTSTAMP:20260424T213738Z
UID:lord-toffingham-live-the-bull
DESCRIPTION:We are soo excited to welcome Lord Toffingham to The Bull
GEO:51.8876699;0.8930575
LOCATION:The Bull
URL:https://musiclivecolchester.com/gigs/lord-toffingham-live-the-bull
END:VEVENT
END:VCALENDAR
