BEGIN:VCALENDAR
VERSION:2.0
PRODID://MusicLiveCOLCHESTER//musiclivecolchester.com//EN
BEGIN:VEVENT
SUMMARY:La Bella Vita feat. Manouche
DTSTART:20241102T190000
DTSTAMP:20260424T175501Z
UID:la-bella-vita-feat-manouche-november
DESCRIPTION:CANCELLED
GEO:51.8908929;0.9065377
LOCATION:The Foresters Arms
URL:https://musiclivecolchester.com/gigs/la-bella-vita-feat-manouche-novem
 ber
END:VEVENT
END:VCALENDAR
