BEGIN:VCALENDAR
VERSION:2.0
PRODID://MusicLiveCOLCHESTER//musiclivecolchester.com//EN
BEGIN:VEVENT
SUMMARY:Kyson Point
DTSTART:20251019T190000
DTSTAMP:20260424T220717Z
UID:kyson-point
DESCRIPTION:Contemporary folk duo
GEO:51.8870847;0.8943278
LOCATION:Headgate Theatre
URL:https://musiclivecolchester.com/gigs/kyson-point
END:VEVENT
END:VCALENDAR
