BEGIN:VCALENDAR
VERSION:2.0
PRODID://MusicLiveCOLCHESTER//musiclivecolchester.com//EN
BEGIN:VEVENT
SUMMARY:Keep It Real Halloween Party
DTSTART:20241031T200000
DTSTAMP:20260422T191232Z
UID:keep-it-real-halloween-party
DESCRIPTION:Weird Creature + Cameron Mackie + DJ Will Bland
GEO:51.8893298;0.8989601
LOCATION:Roots & Grooves Café
URL:https://musiclivecolchester.com/gigs/keep-it-real-halloween-party
END:VEVENT
END:VCALENDAR
