BEGIN:VCALENDAR
VERSION:2.0
PRODID://MusicLiveCOLCHESTER//musiclivecolchester.com//EN
BEGIN:VEVENT
SUMMARY:Keep Colchester Cool presents: Colchester’s Sound 8
DTSTART:20250913T200000
DTSTAMP:20260424T001849Z
UID:keep-colchester-cool-presents-colchesters-sound-8
DESCRIPTION:Featuring Rev Simpkins + Shed + BIGbigSKY + Dean Frost
GEO:51.888742;0.8943686
LOCATION:Colchester Arts Centre
URL:https://musiclivecolchester.com/gigs/keep-colchester-cool-presents-col
 chesters-sound-8
END:VEVENT
END:VCALENDAR
