BEGIN:VCALENDAR
VERSION:2.0
PRODID://MusicLiveCOLCHESTER//musiclivecolchester.com//EN
BEGIN:VEVENT
SUMMARY:Jonathan Leibovitz: Sonatas for Clarinet
DTSTART:20250522T193000
DTSTAMP:20260424T212746Z
UID:jonathan-leibovitz-sonatas-for-clarinet
DESCRIPTION:Roman River spring series
GEO:51.8897496;0.905
LOCATION:The Minories
URL:https://musiclivecolchester.com/gigs/jonathan-leibovitz-sonatas-for-cl
 arinet
END:VEVENT
END:VCALENDAR
