BEGIN:VCALENDAR
VERSION:2.0
PRODID://MusicLiveCOLCHESTER//musiclivecolchester.com//EN
BEGIN:VEVENT
SUMMARY:Jazz @ Patch: Dan Banks & Mike Austin
DTSTART:20260501T193000
DTEND:20260501T220000
DTSTAMP:20260423T120654Z
UID:jazz-patch-ft-dan-banks-on-keys-mike-austin-on-sax
DESCRIPTION:Jazz quartet featuring Dan Banks on keyboards and Mike Austin 
 on saxophone
GEO:51.8883405;0.8992599
LOCATION:Patch
URL:https://musiclivecolchester.com/gigs/jazz-patch-ft-dan-banks-on-keys-m
 ike-austin-on-sax
END:VEVENT
END:VCALENDAR
