BEGIN:VCALENDAR
VERSION:2.0
PRODID://MusicLiveCOLCHESTER//musiclivecolchester.com//EN
BEGIN:VEVENT
SUMMARY:Jazz for Gaza @ The Commons Café
DTSTART:20260418T193000
DTEND:20260418T220000
DTSTAMP:20260421T041801Z
UID:jazz-for-gaza-the-commons-cafe
DESCRIPTION:SOLD OUT
GEO:51.8897496;0.905
LOCATION:The Minories
URL:https://musiclivecolchester.com/gigs/jazz-for-gaza-the-commons-cafe
END:VEVENT
END:VCALENDAR
