BEGIN:VCALENDAR
VERSION:2.0
PRODID://MusicLiveCOLCHESTER//musiclivecolchester.com//EN
BEGIN:VEVENT
SUMMARY:Janice Burns & Jon Doran + Phil Lyons
DTSTART:20251208T200000
DTSTAMP:20260424T175322Z
UID:janice-burns-jon-doran
DESCRIPTION:Vivid stories about the nature of life and our place in the wo
 rld
GEO:51.888742;0.8943686
LOCATION:Colchester Arts Centre
URL:https://musiclivecolchester.com/gigs/janice-burns-jon-doran
END:VEVENT
END:VCALENDAR
