BEGIN:VCALENDAR
VERSION:2.0
PRODID://MusicLiveCOLCHESTER//musiclivecolchester.com//EN
BEGIN:VEVENT
SUMMARY:Irish/Scottish Jam Session @ The Foresters 03/05/2026
DTSTART:20260503T190000
DTSTAMP:20260420T065746Z
UID:irish-scottish-session-the-foresters-20260503
DESCRIPTION:Every first Sunday of the month
GEO:51.8908929;0.9065377
LOCATION:The Foresters Arms
URL:https://musiclivecolchester.com/gigs/irish-scottish-session-the-forest
 ers-20260503
END:VEVENT
END:VCALENDAR
