BEGIN:VCALENDAR
VERSION:2.0
PRODID://MusicLiveCOLCHESTER//musiclivecolchester.com//EN
BEGIN:VEVENT
SUMMARY:Indiepalooza
DTSTART:20261017T190000
DTEND:20261017T230000
DTSTAMP:20260424T140233Z
UID:indiepalooza
DESCRIPTION:Six tribute bands\, one night. You chose the anthems
GEO:51.896616;0.9033541
LOCATION:Charter Hall
URL:https://musiclivecolchester.com/gigs/indiepalooza
END:VEVENT
END:VCALENDAR
