BEGIN:VCALENDAR
VERSION:2.0
PRODID://MusicLiveCOLCHESTER//musiclivecolchester.com//EN
BEGIN:VEVENT
SUMMARY:Ibiza Orchestra Experience – Colchester 2024
DTSTART:20240712T173000
DTSTAMP:20260424T180618Z
UID:ibiza-orchestra-experience-colchester-2024
DESCRIPTION:26-piece live orchestra + very special guest Professor Green
GEO:51.890604;0.903593
LOCATION:Colchester Castle Park
URL:https://musiclivecolchester.com/gigs/ibiza-orchestra-experience-colche
 ster-2024
END:VEVENT
END:VCALENDAR
